BEGIN:VCALENDAR
VERSION:2.0
PRODID:LFV Website-Kit
METHOD:PUBLISH
BEGIN:VEVENT
UID:lfv-7f0b6d5f-276b-43f5-af37-397c1585ab65
LOCATION:
SUMMARY:Feuerwehrfest Hohenaltheim
DESCRIPTION:Termin Link: http://ffw-grosssorheim.feuerwehren.bayern/aktuelles/termine/feuerwehrfest-hohenaltheim/
URL:http://ffw-grosssorheim.feuerwehren.bayern/aktuelles/termine/feuerwehrfest-hohenaltheim/
CLASS:PRIVATE
DTSTART;TZID=Europe/Berlin:20260525T090000
DTEND;TZID=Europe/Berlin:20260525T100000
DTSTAMP:20260421T102630Z
END:VEVENT
END:VCALENDAR