BEGIN:VCALENDAR
VERSION:2.0
PRODID:LFV Website-Kit
METHOD:PUBLISH
BEGIN:VEVENT
UID:lfv-7c9ca94f-db86-488e-bede-64399f2447c3
LOCATION:
SUMMARY:Maibaum aufstellen
DESCRIPTION:Termin Link: http://ffw-grosssorheim.feuerwehren.bayern/aktuelles/termine/maibaum-aufstellen/
URL:http://ffw-grosssorheim.feuerwehren.bayern/aktuelles/termine/maibaum-aufstellen/
CLASS:PRIVATE
DTSTART;TZID=Europe/Berlin:20260430T090000
DTEND;TZID=Europe/Berlin:20260430T110000
DTSTAMP:20260419T115533Z
END:VEVENT
END:VCALENDAR